BEGIN:VCALENDAR
VERSION:2.0
PRODID:-//Living Waters Church - ECPv6.15.20//NONSGML v1.0//EN
CALSCALE:GREGORIAN
METHOD:PUBLISH
X-ORIGINAL-URL:https://livingwatersmn.org
X-WR-CALDESC:Events for Living Waters Church
REFRESH-INTERVAL;VALUE=DURATION:PT1H
X-Robots-Tag:noindex
X-PUBLISHED-TTL:PT1H
BEGIN:VTIMEZONE
TZID:America/Chicago
BEGIN:DAYLIGHT
TZOFFSETFROM:-0600
TZOFFSETTO:-0500
TZNAME:CDT
DTSTART:20250309T080000
END:DAYLIGHT
BEGIN:STANDARD
TZOFFSETFROM:-0500
TZOFFSETTO:-0600
TZNAME:CST
DTSTART:20251102T070000
END:STANDARD
BEGIN:DAYLIGHT
TZOFFSETFROM:-0600
TZOFFSETTO:-0500
TZNAME:CDT
DTSTART:20260308T080000
END:DAYLIGHT
BEGIN:STANDARD
TZOFFSETFROM:-0500
TZOFFSETTO:-0600
TZNAME:CST
DTSTART:20261101T070000
END:STANDARD
BEGIN:DAYLIGHT
TZOFFSETFROM:-0600
TZOFFSETTO:-0500
TZNAME:CDT
DTSTART:20270314T080000
END:DAYLIGHT
BEGIN:STANDARD
TZOFFSETFROM:-0500
TZOFFSETTO:-0600
TZNAME:CST
DTSTART:20271107T070000
END:STANDARD
END:VTIMEZONE
BEGIN:VEVENT
DTSTART;TZID=America/Chicago:20260205T093000
DTEND;TZID=America/Chicago:20260205T110000
DTSTAMP:20260421T044105
CREATED:20250506T190246Z
LAST-MODIFIED:20250506T190246Z
UID:7224-1770283800-1770289200@livingwatersmn.org
SUMMARY:Thursday Morning Prayer
DESCRIPTION:We believe that prayer changes things. Join us as we worship and pray over our church and city every Thursday morning starting at 9:30am in the sanctuary.
URL:https://livingwatersmn.org/event/thursday-morning-prayer-2/2026-02-05/
LOCATION:Living Waters Church\, 21246 Meadowvale Road NW\, Elk River\, MN\, 55330\, United States
CATEGORIES:Prayer
ATTACH;FMTTYPE=image/jpeg:https://livingwatersmn.org/wp-content/uploads/2025/05/Thursday-Morning-Prayer-Web-Event.jpg
ORGANIZER;CN="Living Waters Church":MAILTO:info@livingwatersMN.org
END:VEVENT
BEGIN:VEVENT
DTSTART;TZID=America/Chicago:20260205T130000
DTEND;TZID=America/Chicago:20260205T150000
DTSTAMP:20260421T044105
CREATED:20250417T161049Z
LAST-MODIFIED:20250917T162748Z
UID:7478-1770296400-1770303600@livingwatersmn.org
SUMMARY:Prayer Shawl
DESCRIPTION:The Prayer Shawl Ministry meets every 1st Thursday @ 1pm in the library. \nJoin us!
URL:https://livingwatersmn.org/event/prayer-shawl-2/2026-02-05/
LOCATION:Living Waters Church\, 21246 Meadowvale Road NW\, Elk River\, MN\, 55330\, United States
CATEGORIES:Classes,Creative Arts
ATTACH;FMTTYPE=image/jpeg:https://livingwatersmn.org/wp-content/uploads/2025/04/Prayer-Shawl-Social-Square-1.jpg
END:VEVENT
BEGIN:VEVENT
DTSTART;TZID=America/Chicago:20260205T183000
DTEND;TZID=America/Chicago:20260205T203000
DTSTAMP:20260421T044105
CREATED:20260119T141941Z
LAST-MODIFIED:20260119T162016Z
UID:7741-1770316200-1770323400@livingwatersmn.org
SUMMARY:Higher Call - New Testament Story
DESCRIPTION:Pastor Renae will bring the New Testament to life in this overview of the life of Jesus\, the way of discipleship\, and the foundation of the early church.  \nGain fresh insight through looking at the history\, timeline\, and culture of the Gospels and the Epistles and gain fresh inspiration as we ask the Holy Spirit to breathe on us through the Word.  \nDATES:\nThursdays\, February 3rd\, 12th\, and 19th\n@ 6:30pm \nFREE\, but please sign up below!
URL:https://livingwatersmn.org/event/higher-call-new-testament-story/2026-02-05/
LOCATION:Living Waters Church\, 21246 Meadowvale Road NW\, Elk River\, MN\, 55330\, United States
CATEGORIES:Higher Call
ATTACH;FMTTYPE=image/jpeg:https://livingwatersmn.org/wp-content/uploads/2026/01/New-Testament-Story-Announcement-Slide.jpeg
ORGANIZER;CN="Living Waters Church":MAILTO:info@livingwatersMN.org
END:VEVENT
END:VCALENDAR